BEGIN:VCALENDAR
VERSION:2.0
PRODID:-//hacksw/handcal//NONSGML v1.0//EN
BEGIN:VEVENT
DTSTAMP:20250831T150000Z
DTSTART:20250831T150000Z
DTEND:20250831T150000Z
LOCATION:CDU-Kreisgeschäftsstelle, Gisselberger Straße 17, Marburg, 35037, Deutschland
SUMMARY:mitgliederoffene Vorstandssitzung der Schüler- und Auszubildenden-Union Marburg-Biedenkopf
END:VEVENT
END:VCALENDAR
