BEGIN:VCALENDAR
VERSION:2.0
PRODID:-//hacksw/handcal//NONSGML v1.0//EN
BEGIN:VEVENT
DTSTAMP:20260212T150000Z
DTSTART:20260212T150000Z
DTEND:20260212T150000Z
LOCATION:Café Klingelhöfer, Haspelstraße 21, Marburg, 35037, Deutschland
SUMMARY:Versammlung der Senioren-Union mit Marie-Sophie Künkel MdL
END:VEVENT
END:VCALENDAR
