BEGIN:VCALENDAR
VERSION:2.0
PRODID:-//hacksw/handcal//NONSGML v1.0//EN
BEGIN:VEVENT
DTSTAMP:20260311T180000Z
DTSTART:20260311T180000Z
DTEND:20260311T180000Z
LOCATION:Bürgerhaus Roth, Wolfshäuser Straße 1, Weimar (Lahn), 35096, Deutschland
SUMMARY:Frühlingsempfang des CDU-Kreisverbandes mit Ines Claus MdL, Fraktionsvorsitzende im Hessischen Landtag
END:VEVENT
END:VCALENDAR
