BEGIN:VCALENDAR
VERSION:2.0
PRODID:-//hacksw/handcal//NONSGML v1.0//EN
BEGIN:VEVENT
DTSTAMP:20260309T180000Z
DTSTART:20260309T180000Z
DTEND:20260309T180000Z
LOCATION:Hofcafé Nonnengasse Speckswinkel, Deutschland
SUMMARY:Veranstaltung zum Thema "Politik braucht klare Worte" mit Staatssekretär a.D. Frank Gotthardt
END:VEVENT
END:VCALENDAR
